BEGIN:VCALENDAR
PRODID:-//hacksw/handcal//NONSGML v1.0//EN
VERSION:2.0
METHOD:PUBLISH
BEGIN:VEVENT
DTSTART:20260915T130000Z
DTEND:20260915T150000Z
LOCATION:Locust Hill Country Club
UID:2889320260915T130000ZProgram with Susan Rounds - Family Dynamics
DTSTAMP:20260420T030014Z
DESCRIPTION:\nWe are excited to announce that nationally renowned speaker Susan Rounds will present her program, Family Dynamics and Intergenerational Conflict: Family Governance as a Tool for Preserving Family Wealth and Harmony, at our September event.\n \nRegistration is open, with more program details to come soon.\n
SUMMARY:Program with Susan Rounds - Family Dynamics - Estate Planning Council of Rochester 
PRIORITY:3
BEGIN:VALARM
TRIGGER:PT18H
ACTION:DISPLAY
DESCRIPTION:Reminder
END:VALARM
END:VEVENT
END:VCALENDAR