BEGIN:VCALENDAR
PRODID:-//hacksw/handcal//NONSGML v1.0//EN
VERSION:2.0
METHOD:PUBLISH
BEGIN:VEVENT
DTSTART:20260519T200000Z
DTEND:20260519T210000Z
LOCATION:Locust Hill Country Club
UID:2889220260519T200000ZPanel Group Discussion- The Blended Family
DTSTAMP:20260420T062019Z
DESCRIPTION:\nWelcome to our Annual Meeting, a Continuing Education course then time to network with other EPC members while enjoying hors d'oeuvres and a cash bar. \n \nCome to our May presentation on blended families.  Learn about the pitfalls when no planning is done and how to manage the resulting chaos.  Then learn what planning should have been done.  Some of the topics to be discussed will include ethical issues, division of personal property, flow of assets, dementia issues and business succession.\n \nIntroducing our presenters:\n \nJamie Block CFP, CPA/PFS, MBA, CDFA, AEP, partner at Mercer Advisors\n \nLynn Carleton CTFA, AEP, Sr VP at Key Private Bank\n \nKenneth Kraus ESQ, partner at Evans Fox LLP\n
SUMMARY:Panel Group Discussion- The Blended Family - Estate Planning Council of Rochester 
PRIORITY:3
BEGIN:VALARM
TRIGGER:PT18H
ACTION:DISPLAY
DESCRIPTION:Reminder
END:VALARM
END:VEVENT
END:VCALENDAR